Package: epidecodeR Version: 1.18.0 Command: /home/biocbuild/R/R/bin/R CMD INSTALL epidecodeR StartedAt: 2025-11-10 21:34:50 -0000 (Mon, 10 Nov 2025) EndedAt: 2025-11-10 21:35:36 -0000 (Mon, 10 Nov 2025) EllapsedTime: 45.1 seconds RetCode: 0 Status: OK