Package: epidecodeR Version: 1.18.0 Command: /home/biocbuild/R/R/bin/R CMD build --keep-empty-dirs --no-resave-data epidecodeR StartedAt: 2025-11-11 01:28:32 -0000 (Tue, 11 Nov 2025) EndedAt: 2025-11-11 01:29:41 -0000 (Tue, 11 Nov 2025) EllapsedTime: 69.0 seconds RetCode: 0 Status: OK PackageFile: epidecodeR_1.18.0.tar.gz PackageFileSize: 1.795 MiB