Package: epidecodeR Version: 1.18.0 Command: /home/biocbuild/bbs-3.22-bioc/R/bin/R CMD INSTALL epidecodeR StartedAt: 2025-11-13 15:27:45 -0500 (Thu, 13 Nov 2025) EndedAt: 2025-11-13 15:28:21 -0500 (Thu, 13 Nov 2025) EllapsedTime: 35.9 seconds RetCode: 0 Status: OK