Package: epidecodeR Version: 1.16.0 Command: /home/biocbuild/bbs-3.21-bioc/R/bin/R CMD INSTALL epidecodeR StartedAt: 2025-10-15 15:25:55 -0400 (Wed, 15 Oct 2025) EndedAt: 2025-10-15 15:26:28 -0400 (Wed, 15 Oct 2025) EllapsedTime: 32.6 seconds RetCode: 0 Status: OK