Package: epidecodeR Version: 1.16.0 Command: /home/biocbuild/bbs-3.21-bioc/R/bin/R CMD check --install=check:epidecodeR.install-out.txt --library=/home/biocbuild/bbs-3.21-bioc/R/site-library --timings epidecodeR_1.16.0.tar.gz StartedAt: 2025-10-15 22:58:39 -0400 (Wed, 15 Oct 2025) EndedAt: 2025-10-15 23:03:27 -0400 (Wed, 15 Oct 2025) EllapsedTime: 288.3 seconds RetCode: 0 Status: OK CheckDir: epidecodeR.Rcheck Warnings: 0