Package: epidecodeR Version: 1.16.0 Command: /home/biocbuild/R/R/bin/R CMD build --keep-empty-dirs --no-resave-data epidecodeR StartedAt: 2025-10-14 00:38:26 -0000 (Tue, 14 Oct 2025) EndedAt: 2025-10-14 00:39:38 -0000 (Tue, 14 Oct 2025) EllapsedTime: 72.0 seconds RetCode: 0 Status: OK PackageFile: epidecodeR_1.16.0.tar.gz PackageFileSize: 1.992 MiB