Package: epidecodeR Version: 1.16.0 Command: /Library/Frameworks/R.framework/Resources/bin/R CMD check --install=check:epidecodeR.install-out.txt --library=/Library/Frameworks/R.framework/Resources/library --no-vignettes --timings epidecodeR_1.16.0.tar.gz StartedAt: 2025-10-14 20:50:55 -0400 (Tue, 14 Oct 2025) EndedAt: 2025-10-14 20:56:09 -0400 (Tue, 14 Oct 2025) EllapsedTime: 314.6 seconds RetCode: 0 Status: OK CheckDir: epidecodeR.Rcheck Warnings: 0