Package: epidecodeR Version: 1.16.0 Command: /Library/Frameworks/R.framework/Resources/bin/R CMD build --keep-empty-dirs --no-resave-data epidecodeR StartedAt: 2025-10-13 23:56:44 -0400 (Mon, 13 Oct 2025) EndedAt: 2025-10-13 23:57:48 -0400 (Mon, 13 Oct 2025) EllapsedTime: 64.0 seconds RetCode: 0 Status: OK PackageFile: epidecodeR_1.16.0.tar.gz PackageFileSize: 2.065 MiB