Package: epidecodeR Version: 1.16.0 Command: rm -rf epidecodeR.buildbin-libdir && mkdir epidecodeR.buildbin-libdir && /Users/biocbuild/BBS/utils/build-universal.sh epidecodeR_1.16.0.tar.gz /Library/Frameworks/R.framework/Resources/bin/R epidecodeR.buildbin-libdir StartedAt: 2025-10-15 18:23:21 -0400 (Wed, 15 Oct 2025) EndedAt: 2025-10-15 18:24:05 -0400 (Wed, 15 Oct 2025) EllapsedTime: 43.9 seconds RetCode: 0 Status: OK PackageFile: epidecodeR_1.16.0.tgz PackageFileSize: 1.949 MiB