Package: epialleleR Version: 1.16.0 Command: /home/biocbuild/R/R/bin/R CMD INSTALL epialleleR StartedAt: 2025-10-13 20:49:37 -0000 (Mon, 13 Oct 2025) EndedAt: 2025-10-13 20:51:19 -0000 (Mon, 13 Oct 2025) EllapsedTime: 102.0 seconds RetCode: 0 Status: OK