Package: epialleleR Version: 1.16.0 Command: /home/biocbuild/R/R/bin/R CMD build --keep-empty-dirs --no-resave-data epialleleR StartedAt: 2025-10-14 00:37:42 -0000 (Tue, 14 Oct 2025) EndedAt: 2025-10-14 00:40:31 -0000 (Tue, 14 Oct 2025) EllapsedTime: 169.0 seconds RetCode: 0 Status: OK PackageFile: epialleleR_1.16.0.tar.gz PackageFileSize: 3.517 MiB