Package: ensembldb Version: 2.34.0 Command: /home/biocbuild/bbs-3.22-bioc/R/bin/R CMD check --install=check:ensembldb.install-out.txt --library=/home/biocbuild/bbs-3.22-bioc/R/site-library --timings ensembldb_2.34.0.tar.gz StartedAt: 2025-11-11 23:27:26 -0500 (Tue, 11 Nov 2025) EndedAt: 2025-11-11 23:45:04 -0500 (Tue, 11 Nov 2025) EllapsedTime: 1058.2 seconds RetCode: 0 Status: OK CheckDir: ensembldb.Rcheck Warnings: 0