Package: ensembldb Version: 2.32.0 Command: /home/biocbuild/R/R/bin/R CMD build --keep-empty-dirs --no-resave-data ensembldb StartedAt: 2025-09-26 01:03:58 -0000 (Fri, 26 Sep 2025) EndedAt: 2025-09-26 01:06:36 -0000 (Fri, 26 Sep 2025) EllapsedTime: 158.0 seconds RetCode: 0 Status: OK PackageFile: ensembldb_2.32.0.tar.gz PackageFileSize: 3.564 MiB