Package: enrichplot Version: 1.30.1 Command: /home/biocbuild/R/R/bin/R CMD build --keep-empty-dirs --no-resave-data enrichplot StartedAt: 2025-11-11 01:27:37 -0000 (Tue, 11 Nov 2025) EndedAt: 2025-11-11 01:28:10 -0000 (Tue, 11 Nov 2025) EllapsedTime: 33.0 seconds RetCode: 0 Status: OK PackageFile: enrichplot_1.30.1.tar.gz PackageFileSize: 97.92 KiB