Package: enrichplot Version: 1.28.4 Command: rm -rf enrichplot.buildbin-libdir && mkdir enrichplot.buildbin-libdir && E:\biocbuild\bbs-3.21-bioc\R\bin\R.exe CMD INSTALL --build --library=enrichplot.buildbin-libdir enrichplot_1.28.4.tar.gz StartedAt: 2025-08-15 09:14:23 -0400 (Fri, 15 Aug 2025) EndedAt: 2025-08-15 09:15:19 -0400 (Fri, 15 Aug 2025) EllapsedTime: 56.3 seconds RetCode: 0 Status: OK PackageFile: enrichplot_1.28.4.zip PackageFileSize: 304.8 KiB