Package: enrichplot Version: 1.30.2 Command: /home/biocbuild/bbs-3.22-bioc/R/bin/R CMD INSTALL enrichplot StartedAt: 2025-11-11 15:50:44 -0500 (Tue, 11 Nov 2025) EndedAt: 2025-11-11 15:51:08 -0500 (Tue, 11 Nov 2025) EllapsedTime: 24.1 seconds RetCode: 0 Status: OK