Package: enrichplot Version: 1.30.2 Command: /home/biocbuild/bbs-3.22-bioc/R/bin/R CMD build --keep-empty-dirs --no-resave-data --md5 enrichplot StartedAt: 2025-11-11 17:34:54 -0500 (Tue, 11 Nov 2025) EndedAt: 2025-11-11 17:35:19 -0500 (Tue, 11 Nov 2025) EllapsedTime: 25.1 seconds RetCode: 0 Status: OK PackageFile: enrichplot_1.30.2.tar.gz PackageFileSize: 98.44 KiB