Package: enrichplot Version: 1.28.4 Command: /home/biocbuild/bbs-3.21-bioc/R/bin/R CMD INSTALL enrichplot StartedAt: 2025-09-28 16:00:37 -0400 (Sun, 28 Sep 2025) EndedAt: 2025-09-28 16:01:00 -0400 (Sun, 28 Sep 2025) EllapsedTime: 23.6 seconds RetCode: 0 Status: OK