Package: enrichplot Version: 1.28.4 Command: /home/biocbuild/bbs-3.21-bioc/R/bin/R CMD build --keep-empty-dirs --no-resave-data enrichplot StartedAt: 2025-09-28 17:37:22 -0400 (Sun, 28 Sep 2025) EndedAt: 2025-09-28 17:37:48 -0400 (Sun, 28 Sep 2025) EllapsedTime: 26.1 seconds RetCode: 0 Status: OK PackageFile: enrichplot_1.28.4.tar.gz PackageFileSize: 96.53 KiB