Package: enrichplot Version: 1.28.4 Command: rm -rf enrichplot.buildbin-libdir && mkdir enrichplot.buildbin-libdir && /Users/biocbuild/BBS/utils/build-universal.sh enrichplot_1.28.4.tar.gz /Library/Frameworks/R.framework/Resources/bin/R enrichplot.buildbin-libdir StartedAt: 2025-09-26 13:56:04 -0400 (Fri, 26 Sep 2025) EndedAt: 2025-09-26 13:57:32 -0400 (Fri, 26 Sep 2025) EllapsedTime: 88.5 seconds RetCode: 0 Status: OK PackageFile: enrichplot_1.28.4.tgz PackageFileSize: 303.2 KiB