Package: enrichplot Version: 1.28.4 Command: /home/biocbuild/R/R/bin/R CMD check --install=check:enrichplot.install-out.txt --library=/home/biocbuild/R/R/site-library --no-vignettes --timings enrichplot_1.28.4.tar.gz StartedAt: 2025-10-14 08:51:11 -0000 (Tue, 14 Oct 2025) EndedAt: 2025-10-14 08:55:14 -0000 (Tue, 14 Oct 2025) EllapsedTime: 242.2 seconds RetCode: 0 Status: WARNINGS CheckDir: enrichplot.Rcheck Warnings: 1