Back to Build/check report for BioC 3.22:   simplified   long
ABCD[E]FGHIJKLMNOPQRSTUVWXYZ

This page was generated on 2025-11-13 11:55 -0500 (Thu, 13 Nov 2025).

HostnameOSArch (*)R versionInstalled pkgs
taishanLinux (openEuler 24.03 LTS)aarch644.5.0 (2025-04-11) -- "How About a Twenty-Six" 4668
Click on any hostname to see more info about the system (e.g. compilers)      (*) as reported by 'uname -p', except on Windows and Mac OS X

All results for package enrichplot


To the developers/maintainers of the enrichplot package:
- Allow up to 24 hours (and sometimes 48 hours) for your latest push to git@git.bioconductor.org:packages/enrichplot.git to reflect on this report. See Troubleshooting Build Report for more information.
- Use the following Renviron settings to reproduce errors and warnings.
- If 'R CMD check' started to fail recently on the Linux builder(s) over a missing dependency, add the missing dependency to 'Suggests:' in your DESCRIPTION file. See Renviron.bioc for more information.

raw results

Package 672/2361HostnameOS / ArchINSTALLBUILDCHECKBUILD BIN
enrichplot 1.30.2  (landing page)
Guangchuang Yu
Snapshot Date: 2025-11-12 13:45 -0500 (Wed, 12 Nov 2025)
git_url: https://git.bioconductor.org/packages/enrichplot
git_branch: RELEASE_3_22
git_last_commit: e85d5d3
git_last_commit_date: 2025-11-10 21:31:06 -0500 (Mon, 10 Nov 2025)
taishanLinux (openEuler 24.03 LTS) / aarch64  OK    OK    OK  



Results for Bioconductor software packages that depend directly on package enrichplot

QUICK STATSOS / ArchINSTALLBUILDCHECKBUILD BIN
taishanLinux (openEuler 24.03 LTS) / aarch64
0011
0110
00010
Package 1/11HostnameOS / ArchINSTALLBUILDCHECKBUILD BIN
CBNplot 1.10.0  (landing page)
Noriaki Sato
git_last_commit: 89ee1b1
git_last_commit_date: 2025-10-29 11:22:40 -0500
taishanLinux (openEuler 24.03 LTS) / aarch64  OK    OK    OK  
Package 2/11HostnameOS / ArchINSTALLBUILDCHECKBUILD BIN
ChIPseeker 1.46.1  (landing page)
Guangchuang Yu
git_last_commit: c9031f6
git_last_commit_date: 2025-11-04 09:21:39 -0500
taishanLinux (openEuler 24.03 LTS) / aarch64  OK    OK    OK  
Package 3/11HostnameOS / ArchINSTALLBUILDCHECKBUILD BIN
clusterProfiler 4.18.1  (landing page)
Guangchuang Yu
git_last_commit: f02a64b
git_last_commit_date: 2025-11-01 10:51:50 -0500
taishanLinux (openEuler 24.03 LTS) / aarch64  OK    OK    OK  
Package 4/11HostnameOS / ArchINSTALLBUILDCHECKBUILD BIN
debrowser 1.38.0  (landing page)
Alper Kucukural
git_last_commit: 5dcc10b
git_last_commit_date: 2025-10-29 10:30:54 -0500
taishanLinux (openEuler 24.03 LTS) / aarch64  OK    OK    OK  
Package 5/11HostnameOS / ArchINSTALLBUILDCHECKBUILD BIN
enrichViewNet 1.8.0  (landing page)
Astrid DeschĂȘnes
git_last_commit: 0359c98
git_last_commit_date: 2025-10-29 11:26:13 -0500
taishanLinux (openEuler 24.03 LTS) / aarch64  OK    OK    OK  
Package 6/11HostnameOS / ArchINSTALLBUILDCHECKBUILD BIN
goatea 1.0.0  (landing page)
Maurits Unkel
git_last_commit: c7a7b1e
git_last_commit_date: 2025-10-29 11:37:58 -0500
taishanLinux (openEuler 24.03 LTS) / aarch64  OK    ERROR  skipped
Package 7/11HostnameOS / ArchINSTALLBUILDCHECKBUILD BIN
meshes 1.36.0  (landing page)
Guangchuang Yu
git_last_commit: 6d7a37c
git_last_commit_date: 2025-10-29 10:35:16 -0500
taishanLinux (openEuler 24.03 LTS) / aarch64  OK    OK    OK  
Package 8/11HostnameOS / ArchINSTALLBUILDCHECKBUILD BIN
MicrobiomeProfiler 1.16.0  (landing page)
Guangchuang Yu
git_last_commit: 0abe0d0
git_last_commit_date: 2025-10-29 11:12:46 -0500
taishanLinux (openEuler 24.03 LTS) / aarch64  OK    OK    OK  
Package 9/11HostnameOS / ArchINSTALLBUILDCHECKBUILD BIN
ReactomePA 1.54.0  (landing page)
Guangchuang Yu
git_last_commit: 36f3c2f
git_last_commit_date: 2025-10-29 10:10:37 -0500
taishanLinux (openEuler 24.03 LTS) / aarch64  OK    OK    OK  
Package 10/11HostnameOS / ArchINSTALLBUILDCHECKBUILD BIN
RFLOMICS 1.2.0  (landing page)
Nadia Bessoltane
git_last_commit: cb2ef8a
git_last_commit_date: 2025-10-29 11:35:35 -0500
taishanLinux (openEuler 24.03 LTS) / aarch64  OK    OK    OK  
Package 11/11HostnameOS / ArchINSTALLBUILDCHECKBUILD BIN
TDbasedUFEadv 1.10.0  (landing page)
Y-h. Taguchi
git_last_commit: 3045ab4
git_last_commit_date: 2025-10-29 11:22:02 -0500
taishanLinux (openEuler 24.03 LTS) / aarch64  OK    OK    OK