Package: enrichViewNet Version: 1.8.0 Command: /home/biocbuild/R/R/bin/R CMD build --keep-empty-dirs --no-resave-data enrichViewNet StartedAt: 2025-11-14 01:36:01 -0000 (Fri, 14 Nov 2025) EndedAt: 2025-11-14 01:37:34 -0000 (Fri, 14 Nov 2025) EllapsedTime: 92.0 seconds RetCode: 0 Status: OK PackageFile: enrichViewNet_1.8.0.tar.gz PackageFileSize: 3.799 MiB