Package: enrichViewNet Version: 1.6.1 Command: chmod a+r enrichViewNet -R && E:\biocbuild\bbs-3.21-bioc\R\bin\R.exe CMD build --keep-empty-dirs --no-resave-data enrichViewNet StartedAt: 2025-08-14 18:49:26 -0400 (Thu, 14 Aug 2025) EndedAt: 2025-08-14 18:50:40 -0400 (Thu, 14 Aug 2025) EllapsedTime: 74.7 seconds RetCode: 0 Status: OK PackageFile: enrichViewNet_1.6.1.tar.gz PackageFileSize: 3.402 MiB