Package: enrichViewNet Version: 1.8.0 Command: /home/biocbuild/bbs-3.22-bioc/R/bin/R CMD INSTALL enrichViewNet StartedAt: 2025-11-11 15:51:08 -0500 (Tue, 11 Nov 2025) EndedAt: 2025-11-11 15:51:33 -0500 (Tue, 11 Nov 2025) EllapsedTime: 24.9 seconds RetCode: 0 Status: OK