Package: enrichViewNet Version: 1.8.0 Command: /home/biocbuild/bbs-3.22-bioc/R/bin/R CMD check --install=check:enrichViewNet.install-out.txt --library=/home/biocbuild/bbs-3.22-bioc/R/site-library --timings enrichViewNet_1.8.0.tar.gz StartedAt: 2025-11-11 23:26:54 -0500 (Tue, 11 Nov 2025) EndedAt: 2025-11-11 23:31:01 -0500 (Tue, 11 Nov 2025) EllapsedTime: 247.2 seconds RetCode: 0 Status: OK CheckDir: enrichViewNet.Rcheck Warnings: 0