Package: enrichViewNet Version: 1.6.1 Command: rm -rf enrichViewNet.buildbin-libdir && mkdir enrichViewNet.buildbin-libdir && /Users/biocbuild/BBS/utils/build-universal.sh enrichViewNet_1.6.1.tar.gz /Library/Frameworks/R.framework/Resources/bin/R enrichViewNet.buildbin-libdir StartedAt: 2025-09-26 13:56:07 -0400 (Fri, 26 Sep 2025) EndedAt: 2025-09-26 13:57:36 -0400 (Fri, 26 Sep 2025) EllapsedTime: 88.6 seconds RetCode: 0 Status: OK PackageFile: enrichViewNet_1.6.1.tgz PackageFileSize: 3.485 MiB