Package: enhancerHomologSearch Version: 1.16.0 Command: /home/biocbuild/bbs-3.22-bioc/R/bin/R CMD INSTALL enhancerHomologSearch StartedAt: 2025-11-11 15:57:13 -0500 (Tue, 11 Nov 2025) EndedAt: 2025-11-11 16:01:49 -0500 (Tue, 11 Nov 2025) EllapsedTime: 275.9 seconds RetCode: 0 Status: OK