Package: enhancerHomologSearch Version: 1.16.0 Command: /Library/Frameworks/R.framework/Resources/bin/R CMD build --keep-empty-dirs --no-resave-data enhancerHomologSearch StartedAt: 2025-11-10 16:18:39 -0500 (Mon, 10 Nov 2025) EndedAt: 2025-11-10 16:23:32 -0500 (Mon, 10 Nov 2025) EllapsedTime: 293.1 seconds RetCode: 0 Status: OK PackageFile: enhancerHomologSearch_1.16.0.tar.gz PackageFileSize: 1.043 MiB