Package: eisaR Version: 1.22.1 Command: /home/biocbuild/bbs-3.22-bioc/R/bin/R CMD INSTALL eisaR StartedAt: 2025-11-11 15:28:29 -0500 (Tue, 11 Nov 2025) EndedAt: 2025-11-11 15:28:49 -0500 (Tue, 11 Nov 2025) EllapsedTime: 20.3 seconds RetCode: 0 Status: OK