Package: eiR Version: 1.50.0 Command: /home/biocbuild/bbs-3.22-bioc/R/bin/R CMD check --install=check:eiR.install-out.txt --library=/home/biocbuild/bbs-3.22-bioc/R/site-library --timings eiR_1.50.0.tar.gz StartedAt: 2025-11-14 23:27:16 -0500 (Fri, 14 Nov 2025) EndedAt: 2025-11-14 23:29:09 -0500 (Fri, 14 Nov 2025) EllapsedTime: 113.1 seconds RetCode: 0 Status: OK CheckDir: eiR.Rcheck Warnings: 0