Package: eiR Version: 1.48.0 Command: /home/biocbuild/bbs-3.21-bioc/R/bin/R CMD build --keep-empty-dirs --no-resave-data eiR StartedAt: 2025-10-15 17:20:35 -0400 (Wed, 15 Oct 2025) EndedAt: 2025-10-15 17:20:56 -0400 (Wed, 15 Oct 2025) EllapsedTime: 21.0 seconds RetCode: 0 Status: OK PackageFile: eiR_1.48.0.tar.gz PackageFileSize: 441.2 KiB