Package: eiR Version: 1.50.0 Command: /Library/Frameworks/R.framework/Resources/bin/R CMD INSTALL eiR StartedAt: 2025-10-31 15:23:26 -0400 (Fri, 31 Oct 2025) EndedAt: 2025-10-31 15:23:45 -0400 (Fri, 31 Oct 2025) EllapsedTime: 18.5 seconds RetCode: 0 Status: OK