Package: eiR Version: 1.50.0 Command: /Library/Frameworks/R.framework/Resources/bin/R CMD build --keep-empty-dirs --no-resave-data eiR StartedAt: 2025-11-03 16:54:44 -0500 (Mon, 03 Nov 2025) EndedAt: 2025-11-03 16:55:16 -0500 (Mon, 03 Nov 2025) EllapsedTime: 32.1 seconds RetCode: 0 Status: OK PackageFile: eiR_1.50.0.tar.gz PackageFileSize: 447.5 KiB