Package: eiR Version: 1.50.0 Command: rm -rf eiR.buildbin-libdir && mkdir eiR.buildbin-libdir && /Users/biocbuild/BBS/utils/build-universal.sh eiR_1.50.0.tar.gz /Library/Frameworks/R.framework/Resources/bin/R eiR.buildbin-libdir StartedAt: 2025-11-04 01:38:39 -0500 (Tue, 04 Nov 2025) EndedAt: 2025-11-04 01:38:56 -0500 (Tue, 04 Nov 2025) EllapsedTime: 17.3 seconds RetCode: 0 Status: OK PackageFile: eiR_1.50.0.tgz PackageFileSize: 566.6 KiB