Package: eiR Version: 1.48.0 Command: /home/biocbuild/R/R/bin/R CMD INSTALL eiR StartedAt: 2025-10-06 20:23:51 -0000 (Mon, 06 Oct 2025) EndedAt: 2025-10-06 20:24:03 -0000 (Mon, 06 Oct 2025) EllapsedTime: 11.9 seconds RetCode: 0 Status: OK