Package: eiR Version: 1.48.0 Command: /home/biocbuild/R/R/bin/R CMD build --keep-empty-dirs --no-resave-data eiR StartedAt: 2025-10-07 00:35:40 -0000 (Tue, 07 Oct 2025) EndedAt: 2025-10-07 00:36:05 -0000 (Tue, 07 Oct 2025) EllapsedTime: 25.0 seconds RetCode: 0 Status: OK PackageFile: eiR_1.48.0.tar.gz PackageFileSize: 507.5 KiB