Package: eiR Version: 1.48.0 Command: rm -rf eiR.buildbin-libdir && mkdir eiR.buildbin-libdir && /Users/biocbuild/BBS/utils/build-universal.sh eiR_1.48.0.tar.gz /Library/Frameworks/R.framework/Resources/bin/R eiR.buildbin-libdir StartedAt: 2025-04-21 22:34:03 -0400 (Mon, 21 Apr 2025) EndedAt: 2025-04-21 22:34:08 -0400 (Mon, 21 Apr 2025) EllapsedTime: 5.1 seconds RetCode: 0 Status: OK PackageFile: eiR_1.48.0.tgz PackageFileSize: 572.3 KiB