Package: eiR Version: 1.50.0 Command: /Library/Frameworks/R.framework/Resources/bin/R CMD INSTALL eiR StartedAt: 2025-11-20 16:21:14 -0500 (Thu, 20 Nov 2025) EndedAt: 2025-11-20 16:21:25 -0500 (Thu, 20 Nov 2025) EllapsedTime: 10.5 seconds RetCode: 0 Status: OK