Package: eiR Version: 1.50.0 Command: /Library/Frameworks/R.framework/Resources/bin/R CMD build --keep-empty-dirs --no-resave-data eiR StartedAt: 2025-11-21 00:34:23 -0500 (Fri, 21 Nov 2025) EndedAt: 2025-11-21 00:34:50 -0500 (Fri, 21 Nov 2025) EllapsedTime: 26.4 seconds RetCode: 0 Status: OK PackageFile: eiR_1.50.0.tar.gz PackageFileSize: 452.4 KiB