Package: eds Version: 1.12.0 Command: /home/biocbuild/bbs-3.22-bioc/R/bin/R CMD INSTALL eds StartedAt: 2025-11-03 15:04:56 -0500 (Mon, 03 Nov 2025) EndedAt: 2025-11-03 15:05:07 -0500 (Mon, 03 Nov 2025) EllapsedTime: 10.6 seconds RetCode: 0 Status: OK