Package: eds Version: 1.12.0 Command: /home/biocbuild/bbs-3.22-bioc/R/bin/R CMD build --keep-empty-dirs --no-resave-data --md5 eds StartedAt: 2025-11-03 17:30:23 -0500 (Mon, 03 Nov 2025) EndedAt: 2025-11-03 17:30:37 -0500 (Mon, 03 Nov 2025) EllapsedTime: 14.0 seconds RetCode: 0 Status: OK PackageFile: eds_1.12.0.tar.gz PackageFileSize: 217.9 KiB