Package: edgeR Version: 4.8.0 Command: /home/biocbuild/R/R/bin/R CMD INSTALL edgeR StartedAt: 2025-11-24 21:03:37 -0000 (Mon, 24 Nov 2025) EndedAt: 2025-11-24 21:04:15 -0000 (Mon, 24 Nov 2025) EllapsedTime: 38.1 seconds RetCode: 0 Status: OK