Package: edgeR Version: 4.8.0 Command: /home/biocbuild/R/R/bin/R CMD build --keep-empty-dirs --no-resave-data edgeR StartedAt: 2025-11-25 01:23:43 -0000 (Tue, 25 Nov 2025) EndedAt: 2025-11-25 01:24:11 -0000 (Tue, 25 Nov 2025) EllapsedTime: 28.0 seconds RetCode: 0 Status: OK PackageFile: edgeR_4.8.0.tar.gz PackageFileSize: 2.944 MiB