Package: edgeR Version: 4.8.0 Command: /home/biocbuild/bbs-3.22-bioc/R/bin/R CMD check --install=check:edgeR.install-out.txt --library=/home/biocbuild/bbs-3.22-bioc/R/site-library --timings edgeR_4.8.0.tar.gz StartedAt: 2025-11-14 23:26:43 -0500 (Fri, 14 Nov 2025) EndedAt: 2025-11-14 23:28:07 -0500 (Fri, 14 Nov 2025) EllapsedTime: 84.1 seconds RetCode: 0 Status: OK CheckDir: edgeR.Rcheck Warnings: 0