Package: edgeR Version: 4.8.0 Command: /home/biocbuild/bbs-3.22-bioc/R/bin/R CMD build --keep-empty-dirs --no-resave-data --md5 edgeR StartedAt: 2025-11-11 17:32:07 -0500 (Tue, 11 Nov 2025) EndedAt: 2025-11-11 17:32:29 -0500 (Tue, 11 Nov 2025) EllapsedTime: 22.0 seconds RetCode: 0 Status: OK PackageFile: edgeR_4.8.0.tar.gz PackageFileSize: 2.924 MiB