Package: edgeR Version: 4.6.3 Command: /home/biocbuild/bbs-3.21-bioc/R/bin/R CMD INSTALL edgeR StartedAt: 2025-10-15 15:02:38 -0400 (Wed, 15 Oct 2025) EndedAt: 2025-10-15 15:02:56 -0400 (Wed, 15 Oct 2025) EllapsedTime: 17.6 seconds RetCode: 0 Status: OK