Package: edgeR Version: 4.6.3 Command: /home/biocbuild/bbs-3.21-bioc/R/bin/R CMD build --keep-empty-dirs --no-resave-data edgeR StartedAt: 2025-10-15 17:20:12 -0400 (Wed, 15 Oct 2025) EndedAt: 2025-10-15 17:20:33 -0400 (Wed, 15 Oct 2025) EllapsedTime: 21.0 seconds RetCode: 0 Status: OK PackageFile: edgeR_4.6.3.tar.gz PackageFileSize: 3.456 MiB