Package: edgeR Version: 4.8.0 Command: /Library/Frameworks/R.framework/Resources/bin/R CMD INSTALL edgeR StartedAt: 2025-11-03 15:10:09 -0500 (Mon, 03 Nov 2025) EndedAt: 2025-11-03 15:10:50 -0500 (Mon, 03 Nov 2025) EllapsedTime: 40.7 seconds RetCode: 0 Status: OK