Package: edgeR Version: 4.8.0 Command: /Library/Frameworks/R.framework/Resources/bin/R CMD build --keep-empty-dirs --no-resave-data edgeR StartedAt: 2025-11-02 16:57:49 -0500 (Sun, 02 Nov 2025) EndedAt: 2025-11-02 16:58:22 -0500 (Sun, 02 Nov 2025) EllapsedTime: 33.1 seconds RetCode: 0 Status: OK PackageFile: edgeR_4.8.0.tar.gz PackageFileSize: 2.92 MiB